BEGIN:VCALENDAR
VERSION:2.0
PRODID:-//Ostsee-Cup - ECPv6.15.20//NONSGML v1.0//EN
CALSCALE:GREGORIAN
METHOD:PUBLISH
X-ORIGINAL-URL:https://ostseecup.org
X-WR-CALDESC:Veranstaltungen für Ostsee-Cup
REFRESH-INTERVAL;VALUE=DURATION:PT1H
X-Robots-Tag:noindex
X-PUBLISHED-TTL:PT1H
BEGIN:VTIMEZONE
TZID:Europe/Paris
BEGIN:DAYLIGHT
TZOFFSETFROM:+0100
TZOFFSETTO:+0200
TZNAME:CEST
DTSTART:20250330T010000
END:DAYLIGHT
BEGIN:STANDARD
TZOFFSETFROM:+0200
TZOFFSETTO:+0100
TZNAME:CET
DTSTART:20251026T010000
END:STANDARD
BEGIN:DAYLIGHT
TZOFFSETFROM:+0100
TZOFFSETTO:+0200
TZNAME:CEST
DTSTART:20260329T010000
END:DAYLIGHT
BEGIN:STANDARD
TZOFFSETFROM:+0200
TZOFFSETTO:+0100
TZNAME:CET
DTSTART:20261025T010000
END:STANDARD
BEGIN:DAYLIGHT
TZOFFSETFROM:+0100
TZOFFSETTO:+0200
TZNAME:CEST
DTSTART:20270328T010000
END:DAYLIGHT
BEGIN:STANDARD
TZOFFSETFROM:+0200
TZOFFSETTO:+0100
TZNAME:CET
DTSTART:20271031T010000
END:STANDARD
END:VTIMEZONE
BEGIN:VEVENT
DTSTART;TZID=Europe/Paris:20260509T000000
DTEND;TZID=Europe/Paris:20260510T235959
DTSTAMP:20260422T165520
CREATED:20260420T163548Z
LAST-MODIFIED:20260420T164558Z
UID:271-1778284800-1778457599@ostseecup.org
SUMMARY:Maibockregatta
DESCRIPTION:Seebahn nach ORC und Yardstick\nAnsprechpartner: Hinrich Klatt / Orga See
URL:https://ostseecup.org/event/maibockregatta/
LOCATION:LYC Clubhaus Leuchtenfeld\, Am Leuchtenfeld 4\, Lübeck-Travemünde\, 23570\, Germany
ORGANIZER;CN="L%C3%BCbecker Yacht-Club":MAILTO:orgasee@lyc.de
END:VEVENT
BEGIN:VEVENT
DTSTART;TZID=Europe/Paris:20260530T000000
DTEND;TZID=Europe/Paris:20260530T235959
DTSTAMP:20260422T165520
CREATED:20260420T164954Z
LAST-MODIFIED:20260420T164954Z
UID:277-1780099200-1780185599@ostseecup.org
SUMMARY:Fehmarn Rund BSV
DESCRIPTION:Rundkurs um die Insel Fehmarn\, ca. 37 sm\nBei ungünstigen Windbedingungen kann auch ein alternativer Regattakurs an der Südküste Fehmarns zur Anwendung kommen.
URL:https://ostseecup.org/event/fehmarn-rund-bsv/
LOCATION:Burger Segler Vereinigung e.V.\, Am Yachthafen 6\, Burgtiefe / Fehmarn\, 23769
ORGANIZER;CN="Burger Segler Vereinigung":MAILTO:fehmarn-rund@ffti.de
END:VEVENT
BEGIN:VEVENT
DTSTART;TZID=Europe/Paris:20260613T000000
DTEND;TZID=Europe/Paris:20260613T235959
DTSTAMP:20260422T165520
CREATED:20260420T165416Z
LAST-MODIFIED:20260420T165416Z
UID:283-1781308800-1781395199@ostseecup.org
SUMMARY:Fassregatta Akade. Segelverein Wismar
DESCRIPTION:
URL:https://ostseecup.org/event/fassregatta-akade-segelverein-wismar/
END:VEVENT
BEGIN:VEVENT
DTSTART;TZID=Europe/Paris:20260620T000000
DTEND;TZID=Europe/Paris:20260621T235959
DTSTAMP:20260422T165520
CREATED:20260420T170128Z
LAST-MODIFIED:20260420T170128Z
UID:287-1781913600-1782086399@ostseecup.org
SUMMARY:Mittsommer-Sonnenschuss-Regatta
DESCRIPTION:85nm zwischen Neustadt\, Poel und Fehmarn \nSingle- oder Doublehand\, Fully Crewed
URL:https://ostseecup.org/event/mittsommer-sonnenschuss-regatta/
LOCATION:Neustädter Segler-Verein e.V.\, Neustädter Seglerverein\, Neustadt in Holstein\, 23730\, Germany
ORGANIZER;CN="Neust%C3%A4dter Segler-Verein":MAILTO:mail@nsv-neustadt.de
END:VEVENT
BEGIN:VEVENT
DTSTART;TZID=Europe/Paris:20260717T000000
DTEND;TZID=Europe/Paris:20260718T235959
DTSTAMP:20260422T165520
CREATED:20260420T171332Z
LAST-MODIFIED:20260420T171332Z
UID:290-1784246400-1784419199@ostseecup.org
SUMMARY:Travemünder Woche Langstrecke Rund Fehmarn
DESCRIPTION:
URL:https://ostseecup.org/event/travemuender-woche-langstrecke-rund-fehmarn/
LOCATION:LYC Clubhaus Leuchtenfeld\, Am Leuchtenfeld 4\, Lübeck-Travemünde\, 23570\, Germany
ORGANIZER;CN="Travem%C3%BCnder Woche":MAILTO:info@travemuender-woche.de
END:VEVENT
BEGIN:VEVENT
DTSTART;TZID=Europe/Paris:20260719T000000
DTEND;TZID=Europe/Paris:20260719T235959
DTSTAMP:20260422T165520
CREATED:20260420T172626Z
LAST-MODIFIED:20260420T172626Z
UID:293-1784419200-1784505599@ostseecup.org
SUMMARY:Travemünder Woche Up & Down
DESCRIPTION:
URL:https://ostseecup.org/event/travemuender-woche-up-down/
LOCATION:LYC Clubhaus Leuchtenfeld\, Am Leuchtenfeld 4\, Lübeck-Travemünde\, 23570\, Germany
ORGANIZER;CN="Travem%C3%BCnder Woche":MAILTO:info@travemuender-woche.de
END:VEVENT
BEGIN:VEVENT
DTSTART;TZID=Europe/Paris:20260822T000000
DTEND;TZID=Europe/Paris:20260822T235959
DTSTAMP:20260422T165520
CREATED:20260420T173354Z
LAST-MODIFIED:20260422T071229Z
UID:297-1787356800-1787443199@ostseecup.org
SUMMARY:Fehmarn Rund – SVH/SSCH
DESCRIPTION:
URL:https://ostseecup.org/event/fehmarn-rund-svh-ssch/
LOCATION:Segler-Vereinigung-Heiligenhafen e.V.\, Kapitän-Nissen-Straße 1004\, Heiligenhafen\, 23774\, Germany
ORGANIZER;CN="Segler-Vereinigung Heiligenhafen e.V. mit Sch%C3%BCler-Segel-Club Heiligenhafen":MAILTO:info(at)svh-ssch.de
END:VEVENT
BEGIN:VEVENT
DTSTART;TZID=Europe/Paris:20260905T000000
DTEND;TZID=Europe/Paris:20260905T235959
DTSTAMP:20260422T165520
CREATED:20260420T173717Z
LAST-MODIFIED:20260420T173717Z
UID:300-1788566400-1788652799@ostseecup.org
SUMMARY:Rund Hannibal
DESCRIPTION:
URL:https://ostseecup.org/event/rund-hannibal/
END:VEVENT
BEGIN:VEVENT
DTSTART;TZID=Europe/Paris:20261107T000000
DTEND;TZID=Europe/Paris:20261107T235959
DTSTAMP:20260422T165520
CREATED:20260420T174009Z
LAST-MODIFIED:20260420T174009Z
UID:302-1794009600-1794095999@ostseecup.org
SUMMARY:OSTSEECUP Abschlussveranstaltung
DESCRIPTION:
URL:https://ostseecup.org/event/ostseecup-abschlussveranstaltung/
LOCATION:LYC Clubhaus Leuchtenfeld\, Am Leuchtenfeld 4\, Lübeck-Travemünde\, 23570\, Germany
ORGANIZER;CN="L%C3%BCbecker Yacht-Club":MAILTO:orgasee@lyc.de
END:VEVENT
END:VCALENDAR